BEGIN:VCALENDAR
VERSION:2.0
PRODID:-//wp-events-plugin.com//7.2.3.1//EN
TZID:America/Chicago
X-WR-TIMEZONE:America/Chicago
BEGIN:VEVENT
UID:47@achi.net
DTSTART;TZID=America/Chicago:20260430T163000
DTEND;TZID=America/Chicago:20260430T183000
DTSTAMP:20260401T190703Z
URL:https://achi.net/calendar-events/research-poster-showcase-all-topics/
SUMMARY:Research Poster Showcase - All topics
DESCRIPTION:Host: Development Caucus\n\nEvent Details: https://inside.uams.
 edu/news/call-for-abstracts-research-poster-showcase-deadline-march-13/\n\
 nLocation: 12th floor of Spine Institute\n\nEligibility: any faculty membe
 r (including instructor) of any gender. All research topics are welcome\, 
 topics related to women’s health are encouraged.\n\nSubmitters are respo
 nsible for poster printing\n\nQuestions: contact Samantha (snsmith2@uams.e
 du)
LOCATION:UAMS Jackson T Stephens Spine and Neurosciences Institute\, 501 Ja
 ck Stephens Drive\, Little Rock\, AR\, 72205\, United States
GEO:34.747384;-92.318271
X-APPLE-STRUCTURED-LOCATION;VALUE=URI;X-ADDRESS=501 Jack Stephens Drive\, L
 ittle Rock\, AR\, 72205\, United States;X-APPLE-RADIUS=100;X-TITLE=UAMS Ja
 ckson T Stephens Spine and Neurosciences Institute:geo:34.747384,-92.31827
 1
END:VEVENT
BEGIN:VTIMEZONE
TZID:America/Chicago
X-LIC-LOCATION:America/Chicago
BEGIN:DAYLIGHT
DTSTART:20260308T030000
TZOFFSETFROM:-0600
TZOFFSETTO:-0500
TZNAME:CDT
END:DAYLIGHT
END:VTIMEZONE
END:VCALENDAR