BEGIN:VCALENDAR
VERSION:2.0
PRODID:-//wp-events-plugin.com//7.2.3.1//EN
TZID:America/Chicago
X-WR-TIMEZONE:America/Chicago
BEGIN:VEVENT
UID:46@achi.net
DTSTART;TZID=America/Chicago:20260428T000000
DTEND;TZID=America/Chicago:20260430T000000
DTSTAMP:20260401T185538Z
URL:https://achi.net/calendar-events/national-network-of-public-health-ins
 titutes-annual-conference/
SUMMARY:National Network of Public Health Institutes Annual Conference
DESCRIPTION:Host: NNPHI\n\nEvent Details: https://nnphi.org/event-directory
 /\n\nLocation: Sheraton\, New Orleans
END:VEVENT
BEGIN:VTIMEZONE
TZID:America/Chicago
X-LIC-LOCATION:America/Chicago
BEGIN:DAYLIGHT
DTSTART:20260308T030000
TZOFFSETFROM:-0600
TZOFFSETTO:-0500
TZNAME:CDT
END:DAYLIGHT
END:VTIMEZONE
END:VCALENDAR