BEGIN:VCALENDAR
VERSION:2.0
PRODID:-//wp-events-plugin.com//7.2.3.1//EN
TZID:America/Chicago
X-WR-TIMEZONE:America/Chicago
BEGIN:VEVENT
UID:43@achi.net
DTSTART;TZID=America/Chicago:20260424T133000
DTEND;TZID=America/Chicago:20260424T153000
DTSTAMP:20260401T184055Z
URL:https://achi.net/calendar-events/medicaid-advisory-council-mac-april-2
 026/
SUMMARY:Medicaid Advisory Council (MAC) – April 2026
DESCRIPTION:Host: Division of Medical Services\n\nEvent Details: https://hu
 manservices.arkansas.gov/events/medicaid-advisory-council-mac-april-2026/
LOCATION:AFMC Little Rock Campus (Blue Building)\, 1023 West 3rd Street\, L
 ittle Rock\, AR\, 72201\, United States
GEO:34.747538;-92.28243
X-APPLE-STRUCTURED-LOCATION;VALUE=URI;X-ADDRESS=1023 West 3rd Street\, Litt
 le Rock\, AR\, 72201\, United States;X-APPLE-RADIUS=100;X-TITLE=AFMC Littl
 e Rock Campus (Blue Building):geo:34.747538,-92.28243
END:VEVENT
BEGIN:VTIMEZONE
TZID:America/Chicago
X-LIC-LOCATION:America/Chicago
BEGIN:DAYLIGHT
DTSTART:20260308T030000
TZOFFSETFROM:-0600
TZOFFSETTO:-0500
TZNAME:CDT
END:DAYLIGHT
END:VTIMEZONE
END:VCALENDAR