BEGIN:VCALENDAR
VERSION:2.0
PRODID:-//wp-events-plugin.com//7.2.3.1//EN
TZID:America/Chicago
X-WR-TIMEZONE:America/Chicago
BEGIN:VEVENT
UID:45@achi.net
DTSTART;TZID=America/Chicago:20260425T070000
DTEND;TZID=America/Chicago:20260425T130000
DTSTAMP:20260401T184817Z
URL:https://achi.net/calendar-events/2026-arkansas-orthopaedic-society-ann
 ual-scientific-meeting/
SUMMARY:2026 Arkansas Orthopaedic Society Annual Scientific Meeting
DESCRIPTION:Host: Arkansas Orthopaedic Society\n\nEvent Details: https://ua
 ms.cloud-cme.com/course/courseoverview?EID=71277&amp\;P=5\n\nLocation: Lit
 tle Rock\, AR
END:VEVENT
BEGIN:VTIMEZONE
TZID:America/Chicago
X-LIC-LOCATION:America/Chicago
BEGIN:DAYLIGHT
DTSTART:20260308T030000
TZOFFSETFROM:-0600
TZOFFSETTO:-0500
TZNAME:CDT
END:DAYLIGHT
END:VTIMEZONE
END:VCALENDAR